BEGIN:VCALENDAR
VERSION:2.0
PRODID:-//Sjöofficerssällskapet i Karlskrona - ECPv6.15.20//NONSGML v1.0//EN
CALSCALE:GREGORIAN
METHOD:PUBLISH
X-WR-CALNAME:Sjöofficerssällskapet i Karlskrona
X-ORIGINAL-URL:https://www.sosk.se
X-WR-CALDESC:Händelser för Sjöofficerssällskapet i Karlskrona
REFRESH-INTERVAL;VALUE=DURATION:PT1H
X-Robots-Tag:noindex
X-PUBLISHED-TTL:PT1H
BEGIN:VTIMEZONE
TZID:Europe/Stockholm
BEGIN:DAYLIGHT
TZOFFSETFROM:+0100
TZOFFSETTO:+0200
TZNAME:CEST
DTSTART:20250330T010000
END:DAYLIGHT
BEGIN:STANDARD
TZOFFSETFROM:+0200
TZOFFSETTO:+0100
TZNAME:CET
DTSTART:20251026T010000
END:STANDARD
BEGIN:DAYLIGHT
TZOFFSETFROM:+0100
TZOFFSETTO:+0200
TZNAME:CEST
DTSTART:20260329T010000
END:DAYLIGHT
BEGIN:STANDARD
TZOFFSETFROM:+0200
TZOFFSETTO:+0100
TZNAME:CET
DTSTART:20261025T010000
END:STANDARD
BEGIN:DAYLIGHT
TZOFFSETFROM:+0100
TZOFFSETTO:+0200
TZNAME:CEST
DTSTART:20270328T010000
END:DAYLIGHT
BEGIN:STANDARD
TZOFFSETFROM:+0200
TZOFFSETTO:+0100
TZNAME:CET
DTSTART:20271031T010000
END:STANDARD
END:VTIMEZONE
BEGIN:VEVENT
DTSTART;TZID=Europe/Stockholm:20260903T163000
DTEND;TZID=Europe/Stockholm:20260903T190000
DTSTAMP:20260421T192224
CREATED:20260414T081105Z
LAST-MODIFIED:20260414T081105Z
UID:1104-1788453000-1788462000@www.sosk.se
SUMMARY:After Work
DESCRIPTION:
URL:https://www.sosk.se/event/after-work/
END:VEVENT
BEGIN:VEVENT
DTSTART;TZID=Europe/Stockholm:20260910T121500
DTEND;TZID=Europe/Stockholm:20260910T150000
DTSTAMP:20260421T192224
CREATED:20260414T081150Z
LAST-MODIFIED:20260414T081150Z
UID:1106-1789042500-1789052400@www.sosk.se
SUMMARY:Pensionärslunch
DESCRIPTION:
URL:https://www.sosk.se/event/pensionarslunch-25/
END:VEVENT
BEGIN:VEVENT
DTSTART;TZID=Europe/Stockholm:20260913T140000
DTEND;TZID=Europe/Stockholm:20260913T170000
DTSTAMP:20260421T192224
CREATED:20260414T081243Z
LAST-MODIFIED:20260414T081243Z
UID:1108-1789308000-1789318800@www.sosk.se
SUMMARY:Afternoon Tea
DESCRIPTION:
URL:https://www.sosk.se/event/afternoon-tea-3/
END:VEVENT
BEGIN:VEVENT
DTSTART;TZID=Europe/Stockholm:20260917T163000
DTEND;TZID=Europe/Stockholm:20260917T190000
DTSTAMP:20260421T192224
CREATED:20260414T081338Z
LAST-MODIFIED:20260414T081338Z
UID:1110-1789662600-1789671600@www.sosk.se
SUMMARY:Direktionsmöte
DESCRIPTION:
URL:https://www.sosk.se/event/direktionsmote-16/
END:VEVENT
BEGIN:VEVENT
DTSTART;TZID=Europe/Stockholm:20260924T174500
DTEND;TZID=Europe/Stockholm:20260924T200000
DTSTAMP:20260421T192224
CREATED:20260414T081426Z
LAST-MODIFIED:20260414T081426Z
UID:1112-1790271900-1790280000@www.sosk.se
SUMMARY:Spelafton
DESCRIPTION:
URL:https://www.sosk.se/event/spelafton-21/
END:VEVENT
END:VCALENDAR