BEGIN:VCALENDAR
VERSION:2.0
PRODID:-//Sjöofficerssällskapet i Karlskrona - ECPv6.15.20//NONSGML v1.0//EN
CALSCALE:GREGORIAN
METHOD:PUBLISH
X-ORIGINAL-URL:https://www.sosk.se
X-WR-CALDESC:Händelser för Sjöofficerssällskapet i Karlskrona
REFRESH-INTERVAL;VALUE=DURATION:PT1H
X-Robots-Tag:noindex
X-PUBLISHED-TTL:PT1H
BEGIN:VTIMEZONE
TZID:Europe/Stockholm
BEGIN:DAYLIGHT
TZOFFSETFROM:+0100
TZOFFSETTO:+0200
TZNAME:CEST
DTSTART:20250330T010000
END:DAYLIGHT
BEGIN:STANDARD
TZOFFSETFROM:+0200
TZOFFSETTO:+0100
TZNAME:CET
DTSTART:20251026T010000
END:STANDARD
BEGIN:DAYLIGHT
TZOFFSETFROM:+0100
TZOFFSETTO:+0200
TZNAME:CEST
DTSTART:20260329T010000
END:DAYLIGHT
BEGIN:STANDARD
TZOFFSETFROM:+0200
TZOFFSETTO:+0100
TZNAME:CET
DTSTART:20261025T010000
END:STANDARD
BEGIN:DAYLIGHT
TZOFFSETFROM:+0100
TZOFFSETTO:+0200
TZNAME:CEST
DTSTART:20270328T010000
END:DAYLIGHT
BEGIN:STANDARD
TZOFFSETFROM:+0200
TZOFFSETTO:+0100
TZNAME:CET
DTSTART:20271031T010000
END:STANDARD
END:VTIMEZONE
BEGIN:VEVENT
DTSTART;TZID=Europe/Stockholm:20261022T174500
DTEND;TZID=Europe/Stockholm:20261022T200000
DTSTAMP:20260422T005103
CREATED:20260414T081719Z
LAST-MODIFIED:20260414T081719Z
UID:1118-1792691100-1792699200@www.sosk.se
SUMMARY:Spelafton
DESCRIPTION:
URL:https://www.sosk.se/event/spelafton-22/
END:VEVENT
BEGIN:VEVENT
DTSTART;TZID=Europe/Stockholm:20261029T163000
DTEND;TZID=Europe/Stockholm:20261029T190000
DTSTAMP:20260422T005103
CREATED:20260414T081816Z
LAST-MODIFIED:20260414T081816Z
UID:1120-1793291400-1793300400@www.sosk.se
SUMMARY:Direktionsmöte inför höstsammanträde
DESCRIPTION:
URL:https://www.sosk.se/event/direktionsmote-infor-hostsammantrade-4/
END:VEVENT
BEGIN:VEVENT
DTSTART;TZID=Europe/Stockholm:20261029T180000
DTEND;TZID=Europe/Stockholm:20261029T203000
DTSTAMP:20260422T005103
CREATED:20260414T081902Z
LAST-MODIFIED:20260414T081902Z
UID:1122-1793296800-1793305800@www.sosk.se
SUMMARY:Höstsammanträde
DESCRIPTION:
URL:https://www.sosk.se/event/hostsammantrade-3/
END:VEVENT
BEGIN:VEVENT
DTSTART;TZID=Europe/Stockholm:20261112T121500
DTEND;TZID=Europe/Stockholm:20261112T150000
DTSTAMP:20260422T005103
CREATED:20260414T081951Z
LAST-MODIFIED:20260414T081951Z
UID:1124-1794485700-1794495600@www.sosk.se
SUMMARY:Pensionärslunch
DESCRIPTION:
URL:https://www.sosk.se/event/pensionarslunch-27/
END:VEVENT
BEGIN:VEVENT
DTSTART;TZID=Europe/Stockholm:20261114T140000
DTEND;TZID=Europe/Stockholm:20261114T160000
DTSTAMP:20260422T005103
CREATED:20260414T082141Z
LAST-MODIFIED:20260414T082141Z
UID:1126-1794664800-1794672000@www.sosk.se
SUMMARY:Afternoon Tea
DESCRIPTION:
URL:https://www.sosk.se/event/afternoon-tea-4/
END:VEVENT
BEGIN:VEVENT
DTSTART;TZID=Europe/Stockholm:20261119T163000
DTEND;TZID=Europe/Stockholm:20261119T190000
DTSTAMP:20260422T005103
CREATED:20260414T082235Z
LAST-MODIFIED:20260414T082235Z
UID:1128-1795105800-1795114800@www.sosk.se
SUMMARY:After Work
DESCRIPTION:
URL:https://www.sosk.se/event/after-work-2/
END:VEVENT
BEGIN:VEVENT
DTSTART;TZID=Europe/Stockholm:20261126T174500
DTEND;TZID=Europe/Stockholm:20261126T203000
DTSTAMP:20260422T005103
CREATED:20260414T082324Z
LAST-MODIFIED:20260414T082324Z
UID:1130-1795715100-1795725000@www.sosk.se
SUMMARY:Spelafton
DESCRIPTION:
URL:https://www.sosk.se/event/spelafton-23/
END:VEVENT
BEGIN:VEVENT
DTSTART;TZID=Europe/Stockholm:20261203T163000
DTEND;TZID=Europe/Stockholm:20261203T190000
DTSTAMP:20260422T005103
CREATED:20260414T082405Z
LAST-MODIFIED:20260414T082405Z
UID:1132-1796315400-1796324400@www.sosk.se
SUMMARY:Direktionsmöte
DESCRIPTION:
URL:https://www.sosk.se/event/direktionsmote-17/
END:VEVENT
BEGIN:VEVENT
DTSTART;TZID=Europe/Stockholm:20261210T121500
DTEND;TZID=Europe/Stockholm:20261210T150000
DTSTAMP:20260422T005103
CREATED:20260414T082443Z
LAST-MODIFIED:20260414T082443Z
UID:1134-1796904900-1796914800@www.sosk.se
SUMMARY:Pensionärslunch
DESCRIPTION:
URL:https://www.sosk.se/event/pensionarslunch-28/
END:VEVENT
BEGIN:VEVENT
DTSTART;TZID=Europe/Stockholm:20261211T120000
DTEND;TZID=Europe/Stockholm:20261211T150000
DTSTAMP:20260422T005103
CREATED:20260414T082532Z
LAST-MODIFIED:20260414T082532Z
UID:1136-1796990400-1797001200@www.sosk.se
SUMMARY:Jullunch
DESCRIPTION:
URL:https://www.sosk.se/event/jullunch-3/
END:VEVENT
END:VCALENDAR